Workbook
Name SegmentaciónDeDatos_ABC_Stock: #N/A
Name SegmentaciónDeDatos_ABC_Ventas: #N/A
Name SegmentaciónDeDatos_Año: #N/A
Name SegmentaciónDeDatos_Familia: #N/A
Name SegmentaciónDeDatos_Mes: #N/A
Name SegmentaciónDeDatos_Rango_antigüedad_del_stock: #N/A

Sheet Dashboard

Sheet ABC Ventas
A3: Código del producto | B3: Suma de Venta prom 12 meses en monto | C3: % | D3: % ACUM | E3: ABC
A4: 1277 | B4: 461161.79 | C4: =B4/$B$566 -> #DIV/0! | D4: =SUM($C$4:C4) -> #DIV/0! | E4: =VLOOKUP(D4,Tabla!$B$5:$D$7,3,1) -> #DIV/0!
A5: 1450 | B5: 394247.62 | C5: =B5/$B$566 -> #DIV/0! | D5: =SUM($C$4:C5) -> #DIV/0! | E5: =VLOOKUP(D5,Tabla!$B$5:$D$7,3,1) -> #DIV/0!
A6: 1400 | B6: 386264.86 | C6: =B6/$B$566 -> #DIV/0! | D6: =SUM($C$4:C6) -> #DIV/0! | E6: =VLOOKUP(D6,Tabla!$B$5:$D$7,3,1) -> #DIV/0!
A7: 1467 | B7: 363031.85 | C7: =B7/$B$566 -> #DIV/0! | D7: =SUM($C$4:C7) -> #DIV/0! | E7: =VLOOKUP(D7,Tabla!$B$5:$D$7,3,1) -> #DIV/0!
A8: 1070 | B8: 338008.3 | C8: =B8/$B$566 -> #DIV/0! | D8: =SUM($C$4:C8) -> #DIV/0! | E8: =VLOOKUP(D8,Tabla!$B$5:$D$7,3,1) -> #DIV/0!
A9: 1332 | B9: 325543.55 | C9: =B9/$B$566 -> #DIV/0! | D9: =SUM($C$4:C9) -> #DIV/0! | E9: =VLOOKUP(D9,Tabla!$B$5:$D$7,3,1) -> #DIV/0!
A10: 1503 | B10: 313516.93 | C10: =B10/$B$566 -> #DIV/0! | D10: =SUM($C$4:C10) -> #DIV/0! | E10: =VLOOKUP(D10,Tabla!$B$5:$D$7,3,1) -> #DIV/0!
A11: 1451 | B11: 305289.62 | C11: =B11/$B$566 -> #DIV/0! | D11: =SUM($C$4:C11) -> #DIV/0! | E11: =VLOOKUP(D11,Tabla!$B$5:$D$7,3,1) -> #DIV/0!
A12: 1510 | B12: 297016.34 | C12: =B12/$B$566 -> #DIV/0! | D12: =SUM($C$4:C12) -> #DIV/0! | E12: =VLOOKUP(D12,Tabla!$B$5:$D$7,3,1) -> #DIV/0!
A13: 1157 | B13: 296624 | C13: =B13/$B$566 -> #DIV/0! | D13: =SUM($C$4:C13) -> #DIV/0! | E13: =VLOOKUP(D13,Tabla!$B$5:$D$7,3,1) -> #DIV/0!
A14: 1092 | B14: 279980.2 | C14: =B14/$B$566 -> #DIV/0! | D14: =SUM($C$4:C14) -> #DIV/0! | E14: =VLOOKUP(D14,Tabla!$B$5:$D$7,3,1) -> #DIV/0!
A15: 1060 | B15: 270623.64 | C15: =B15/$B$566 -> #DIV/0! | D15: =SUM($C$4:C15) -> #DIV/0! | E15: =VLOOKUP(D15,Tabla!$B$5:$D$7,3,1) -> #DIV/0!
... A559: 1298 | B559: 0 | C559: =B559/$B$566 -> #DIV/0! | D559: =SUM($C$4:C559) -> #DIV/0! | E559: =VLOOKUP(D559,Tabla!$B$5:$D$7,3,1) -> #DIV/0!
A560: Total general | B560: 19979203 | C560: =B560/$B$566 -> #DIV/0! | D560: =SUM($C$4:C560) -> #DIV/0! | E560: =VLOOKUP(D560,Tabla!$B$5:$D$7,3,1) -> #DIV/0!
C561: =B561/$B$566 -> #DIV/0! | D561: =SUM($C$4:C561) -> #DIV/0! | E561: =VLOOKUP(D561,Tabla!$B$5:$D$7,3,1) -> #DIV/0!
C562: =B562/$B$566 -> #DIV/0! | D562: =SUM($C$4:C562) -> #DIV/0! | E562: =VLOOKUP(D562,Tabla!$B$5:$D$7,3,1) -> #DIV/0!
C563: =B563/$B$566 -> #DIV/0! | D563: =SUM($C$4:C563) -> #DIV/0! | E563: =VLOOKUP(D563,Tabla!$B$5:$D$7,3,1) -> #DIV/0!
C564: =B564/$B$566 -> #DIV/0! | D564: =SUM($C$4:C564) -> #DIV/0! | E564: =VLOOKUP(D564,Tabla!$B$5:$D$7,3,1) -> #DIV/0!
C565: =B565/$B$566 -> #DIV/0! | D565: =SUM($C$4:C565) -> #DIV/0! | E565: =VLOOKUP(D565,Tabla!$B$5:$D$7,3,1) -> #DIV/0!
C566: =B566/$B$566 -> #DIV/0!

Sheet ABC Stock
A3: Código del producto | B3: Suma de Stock valorizado | C3: % | D3: % ACUM | E3: ABC
A4: 1401 | B4: 314097 | C4: =B4/$B$566 -> #DIV/0! | D4: =SUM($C$4:C4) -> #DIV/0! | E4: =VLOOKUP(D4,Tabla!$B$5:$D$7,3,1) -> #DIV/0!
A5: 1391 | B5: 235547 | C5: =B5/$B$566 -> #DIV/0! | D5: =SUM($C$4:C5) -> #DIV/0! | E5: =VLOOKUP(D5,Tabla!$B$5:$D$7,3,1) -> #DIV/0!
A6: 1194 | B6: 235443 | C6: =B6/$B$566 -> #DIV/0! | D6: =SUM($C$4:C6) -> #DIV/0! | E6: =VLOOKUP(D6,Tabla!$B$5:$D$7,3,1) -> #DIV/0!
A7: 1114 | B7: 216045 | C7: =B7/$B$566 -> #DIV/0! | D7: =SUM($C$4:C7) -> #DIV/0! | E7: =VLOOKUP(D7,Tabla!$B$5:$D$7,3,1) -> #DIV/0!
A8: 1133 | B8: 199863 | C8: =B8/$B$566 -> #DIV/0! | D8: =SUM($C$4:C8) -> #DIV/0! | E8: =VLOOKUP(D8,Tabla!$B$5:$D$7,3,1) -> #DIV/0!
A9: 1479 | B9: 195488 | C9: =B9/$B$566 -> #DIV/0! | D9: =SUM($C$4:C9) -> #DIV/0! | E9: =VLOOKUP(D9,Tabla!$B$5:$D$7,3,1) -> #DIV/0!
A10: 1070 | B10: 186622 | C10: =B10/$B$566 -> #DIV/0! | D10: =SUM($C$4:C10) -> #DIV/0! | E10: =VLOOKUP(D10,Tabla!$B$5:$D$7,3,1) -> #DIV/0!
A11: 1373 | B11: 184059 | C11: =B11/$B$566 -> #DIV/0! | D11: =SUM($C$4:C11) -> #DIV/0! | E11: =VLOOKUP(D11,Tabla!$B$5:$D$7,3,1) -> #DIV/0!
A12: 1235 | B12: 183707 | C12: =B12/$B$566 -> #DIV/0! | D12: =SUM($C$4:C12) -> #DIV/0! | E12: =VLOOKUP(D12,Tabla!$B$5:$D$7,3,1) -> #DIV/0!
A13: 1019 | B13: 181232 | C13: =B13/$B$566 -> #DIV/0! | D13: =SUM($C$4:C13) -> #DIV/0! | E13: =VLOOKUP(D13,Tabla!$B$5:$D$7,3,1) -> #DIV/0!
A14: 1202 | B14: 181190 | C14: =B14/$B$566 -> #DIV/0! | D14: =SUM($C$4:C14) -> #DIV/0! | E14: =VLOOKUP(D14,Tabla!$B$5:$D$7,3,1) -> #DIV/0!
A15: 1503 | B15: 180356 | C15: =B15/$B$566 -> #DIV/0! | D15: =SUM($C$4:C15) -> #DIV/0! | E15: =VLOOKUP(D15,Tabla!$B$5:$D$7,3,1) -> #DIV/0!
... A559: 1010 | B559: 0 | C559: =B559/$B$566 -> #DIV/0! | D559: =SUM($C$4:C559) -> #DIV/0! | E559: =VLOOKUP(D559,Tabla!$B$5:$D$7,3,1) -> #DIV/0!
A560: Total general | B560: 13522391 | C560: =B560/$B$566 -> #DIV/0! | D560: =SUM($C$4:C560) -> #DIV/0! | E560: =VLOOKUP(D560,Tabla!$B$5:$D$7,3,1) -> #DIV/0!
C561: =B561/$B$566 -> #DIV/0! | D561: =SUM($C$4:C561) -> #DIV/0! | E561: =VLOOKUP(D561,Tabla!$B$5:$D$7,3,1) -> #DIV/0!
C562: =B562/$B$566 -> #DIV/0! | D562: =SUM($C$4:C562) -> #DIV/0! | E562: =VLOOKUP(D562,Tabla!$B$5:$D$7,3,1) -> #DIV/0!
C563: =B563/$B$566 -> #DIV/0! | D563: =SUM($C$4:C563) -> #DIV/0! | E563: =VLOOKUP(D563,Tabla!$B$5:$D$7,3,1) -> #DIV/0!
C564: =B564/$B$566 -> #DIV/0! | D564: =SUM($C$4:C564) -> #DIV/0! | E564: =VLOOKUP(D564,Tabla!$B$5:$D$7,3,1) -> #DIV/0!
C565: =B565/$B$566 -> #DIV/0! | D565: =SUM($C$4:C565) -> #DIV/0! | E565: =VLOOKUP(D565,Tabla!$B$5:$D$7,3,1) -> #DIV/0!
C566: =B566/$B$566 -> #DIV/0!

Sheet Pivots
AI1: Rango antigüedad del stock | AJ1: (Todas)
A3: Año | B3: Mes | C3: Stock | D3: Nro items | F3: Familia | G3: Stock | I3: Año | J3: Mes | K3: Meses de invent | M3: Año | N3: Mes | O3: Familia | P3: Meses de invent | R3: Stock | T3: ABC Ventas | Y3: Stock | AA3: ABC Stock | AF3: Rango antigüedad del stock | AG3: Stock | AI3: Descripción | AJ3: Stock | AL3: Rango antigüedad del stock | AM3: Nro items
A4: 2019 | B4: Ene | C4: 1394814.9 | D4: 137 | F4: 02 - BUJIAS | G4: 120304 | I4: 2019 | J4: Ene | K4: 1.0470797 | M4: 2019 | N4: Ene | O4: 01 - BATERIAS | P4: 12.805653 | R4: Año | S4: Mes | T4: #¡DIV/0! | U4: Total general | Y4: Año | Z4: Mes | AA4: #¡DIV/0! | AB4: Total general | AF4: 1. Sin movimiento | AG4: 354733.72 | AI4: FILTRO DE ACEITE | AJ4: 181232 | AL4: 1. Sin movimiento | AM4: 47
B5: Feb | C5: 1449177.7 | D5: 130 | F5: 01 - BATERIAS | G5: 181429.24 | J5: Feb | K5: 1.2189925 | O5: 02 - BUJIAS | P5: 0.26102088 | R5: 2019 | S5: Ene | T5: 1394814.9 | U5: 1394814.9 | Y5: 2019 | Z5: Ene | AA5: 1394814.9 | AB5: 1394814.9 | AF5: 2. Menor a 3 meses | AG5: 10034387 | AI5: SUJETADOR DE TIMON | AJ5: 183707 | AL5: 2. Menor a 3 meses | AM5: 903
B6: Mar | C6: 1018784.3 | D6: 141 | F6: 10 - PALANCAS Y CHICOTES | G6: 348372.46 | J6: Mar | K6: 0.88013945 | O6: 03 - FILTROS | P6: 0.89652401 | S6: Feb | T6: 1449177.7 | U6: 1449177.7 | Z6: Feb | AA6: 1449177.7 | AB6: 1449177.7 | AF6: 3. Entre 3 y 6 meses | AG6: 1282452.9 | AI6: CLAXON DOBLE CON BASE | AJ6: 184059 | AL6: 3. Entre 3 y 6 meses | AM6: 223
B7: Abr | C7: 950402.95 | D7: 139 | F7: 03 - FILTROS | G7: 534092.49 | J7: Abr | K7: 0.89834577 | O7: 04 - FRENOS Y EMBRAGUES | P7: 2.7968962 | S7: Mar | T7: 1018784.3 | U7: 1018784.3 | Z7: Mar | AA7: 1018784.3 | AB7: 1018784.3 | AF7: 4. Entre 6 y 12 meses | AG7: 679430.01 | AI7: CUBIERTA DE CAJA GUANTERA | AJ7: 186622 | AL7: 4. Entre 6 y 12 meses | AM7: 269
B8: May | C8: 1578465.2 | D8: 155 | F8: 07 - PEDALES Y POSAPIES | G8: 560547.27 | J8: May | K8: 1.3908616 | O8: 05 - COLISION | P8: 0.81425483 | S8: Abr | T8: 950402.95 | U8: 950402.95 | Z8: Abr | AA8: 950402.95 | AB8: 950402.95 | AF8: 5. Más de 12 meses | AG8: 1171387.4 | AI8: ENGRANAJE GUIA DE CADENA | AJ8: 195488 | AL8: 5. Más de 12 meses | AM8: 244
B9: Jun | C9: 1090190.1 | D9: 142 | F9: 04 - FRENOS Y EMBRAGUES | G9: 724265.19 | J9: Jun | K9: 1.0856251 | O9: 06 - AMORTIGUADORES | P9: 1.3117921 | S9: May | T9: 1578465.2 | U9: 1578465.2 | Z9: May | AA9: 1578465.2 | AB9: 1578465.2 | AF9: Total general | AG9: 13522391 | AI9: TAPABARRO INT TRASERA (LODERA) | AJ9: 199863 | AL9: Total general | AM9: 1686
B10: Jul | C10: 959823.22 | D10: 159 | F10: 06 - AMORTIGUADORES | G10: 829808.52 | J10: Jul | K10: 1.042799 | O10: 07 - PEDALES Y POSAPIES | P10: 0.65424531 | S10: Jun | T10: 1090190.1 | U10: 1090190.1 | Z10: Jun | AA10: 1090190.1 | AB10: 1090190.1 | AI10: CUBIERTA TRASERA IZQ AZUL | AJ10: 216045
B11: Ago | C11: 1159963.2 | D11: 148 | F11: 08 - ELECTRICO | G11: 1338443.5 | J11: Ago | K11: 0.88656928 | O11: 08 - ELECTRICO | P11: 1.2697543 | S11: Jul | T11: 959823.22 | U11: 959823.22 | Z11: Jul | AA11: 959823.22 | AB11: 959823.22 | AI11: CUBIERTA TRASERA AZUL | AJ11: 235443
B12: Set | C12: 1180067.3 | D12: 128 | F12: 09 - PARTES DE MOTOR | G12: 3602082.6 | J12: Set | K12: 1.4372677 | O12: 09 - PARTES DE MOTOR | P12: 1.1334769 | S12: Ago | T12: 1159963.2 | U12: 1159963.2 | Z12: Ago | AA12: 1159963.2 | AB12: 1159963.2 | AI12: GENERADOR | AJ12: 235547
B13: Oct | C13: 1299054.3 | D13: 156 | F13: 05 - COLISION | G13: 5283045.5 | J13: Oct | K13: 0.87586727 | O13: 10 - PALANCAS Y CHICOTES | P13: 0.58805626 | S13: Set | T13: 1180067.3 | U13: 1180067.3 | Z13: Set | AA13: 1180067.3 | AB13: 1180067.3 | AI13: MARTILLO IMPULSOR DE VALVULA | AJ13: 314097
B14: Nov | C14: 854020.25 | D14: 130 | F14: Total general | G14: 13522391 | J14: Nov | K14: 1.1251987 | N14: Total Ene | P14: 1.0470797 | S14: Oct | T14: 1299054.3 | U14: 1299054.3 | Z14: Oct | AA14: 1299054.3 | AB14: 1299054.3 | AI14: Total general | AJ14: 2132103
B15: Dic | C15: 587627.21 | D15: 121 | J15: Dic | K15: 0.77717615 | N15: Feb | O15: 01 - BATERIAS | P15: 11.40717 | S15: Nov | T15: 854020.25 | U15: 854020.25 | Z15: Nov | AA15: 854020.25 | AB15: 854020.25
A16: Total 2019 | C16: 13522391 | D16: 1686 | I16: Total 2019 | K16: 1.0463323 | O16: 03 - FILTROS | P16: 3.9719315 | S16: Dic | T16: 587627.21 | U16: 587627.21 | Z16: Dic | AA16: 587627.21 | AB16: 587627.21
A17: Total general | C17: 13522391 | D17: 1686 | I17: Total general | K17: 1.0463323 | O17: 04 - FRENOS Y EMBRAGUES | P17: 1.4924691 | R17: Total 2019 | T17: 13522391 | U17: 13522391 | Y17: Total 2019 | AA17: 13522391 | AB17: 13522391
O18: 05 - COLISION | P18: 1.0959398 | R18: Total general | T18: 13522391 | U18: 13522391 | Y18: Total general | AA18: 13522391 | AB18: 13522391
O19: 06 - AMORTIGUADORES | P19: 1.5349318
O20: 07 - PEDALES Y POSAPIES | P20: 1.032963
O21: 08 - ELECTRICO | P21: 0.95308952
O22: 09 - PARTES DE MOTOR | P22: 1.3640833
O23: 10 - PALANCAS Y CHICOTES | P23: 3.8504878
N24: Total Feb | P24: 1.2189925
N25: Mar | O25: 02 - BUJIAS | P25: 0.79235669
O26: 03 - FILTROS | P26: 7.280272
O27: 04 - FRENOS Y EMBRAGUES | P27: 1.4884047
O28: 05 - COLISION | P28: 1.045421
O29: 06 - AMORTIGUADORES | P29: 0.40089656
O30: 07 - PEDALES Y POSAPIES | P30: 12.112067
O31: 08 - ELECTRICO | P31: 1.0818655
O32: 09 - PARTES DE MOTOR | P32: 0.77152867
O33: 10 - PALANCAS Y CHICOTES | P33: 4.5880191
N34: Total Mar | P34: 0.88013945
N35: Abr | O35: 01 - BATERIAS | P35: 2.1407407
O36: 03 - FILTROS | P36: 4.0398804
O37: 04 - FRENOS Y EMBRAGUES | P37: 0.40446187
O38: 05 - COLISION | P38: 0.99407579
O39: 06 - AMORTIGUADORES | P39: 5.242569
O40: 07 - PEDALES Y POSAPIES | P40: 0.94370667
O41: 08 - ELECTRICO | P41: 0.80400711
...

Sheet Base para dashboard
A1: Código del producto | B1: Descripción | C1: Familia | D1: Unidad de medida | E1: Stock en unidades | F1: Costo unitario | G1: Stock valorizado | H1: Año | I1: Mes | J1: Venta prom 12 meses en UN | K1: Venta prom 12 meses en monto | L1: Costo de Venta prom 12 meses en monto | M1: Meses de stock | N1: Rotación | O1: ABC Ventas | P1: ABC Stock | Q1: Rango antigüedad del stock
A2: 1001 | B2: BATERIA DIABOLO | C2: 01 - BATERIAS | D2: UN | E2: 124 | F2: 6.77 | G2: =Tabla1[[#This Row],[Stock en unidades]]*Tabla1[[#This Row],[Costo unitario]] -> 839.48 | H2: 2020 | I2: Feb | J2: 117 | K2: 966.3498 | L2: =Tabla1[[#This Row],[Venta prom 12 meses en UN]]*Tabla1[[#This Row],[Costo unitario]] -> 792.09 | M2: =IFERROR(Tabla1[[#This Row],[Stock en unidades]]/Tabla1[[#This Row],[Venta prom 12 meses en UN]],0) -> 1.0598291 | N2: =IFERROR(12/Tabla1[[#This Row],[Meses de stock]],0) -> 11.322581 | O2: =VLOOKUP(Tabla1[[#This Row],[Código del producto]],'ABC Ventas'!$A:$E,5,0) -> #DIV/0! | P2: =VLOOKUP(Tabla1[[#This Row],[Código del producto]],'ABC Stock'!$A:$E,5,0) -> #DIV/0! | Q2: =IF(AND(Tabla1[[#This Row],[Venta prom 12 meses en UN]]=0,Tabla1[[#This Row],[Stock en unidades]]>0),Tabla!$H$5,VLOOKUP(Tabla1[[#This Row],[Meses de stock]],Tabla!$F$6:$H$9,3,1)) -> 2. Menor a 3 meses
A3: 1001 | B3: BATERIA DIABOLO | C3: 01 - BATERIAS | D3: UN | E3: 280 | F3: 6.99 | G3: =Tabla1[[#This Row],[Stock en unidades]]*Tabla1[[#This Row],[Costo unitario]] -> 1957.2 | H3: 2020 | I3: Mar | J3: 90 | K3: 761.211 | L3: =Tabla1[[#This Row],[Venta prom 12 meses en UN]]*Tabla1[[#This Row],[Costo unitario]] -> 629.1 | M3: =IFERROR(Tabla1[[#This Row],[Stock en unidades]]/Tabla1[[#This Row],[Venta prom 12 meses en UN]],0) -> 3.1111111 | N3: =IFERROR(12/Tabla1[[#This Row],[Meses de stock]],0) -> 3.8571429 | O3: =VLOOKUP(Tabla1[[#This Row],[Código del producto]],'ABC Ventas'!$A:$E,5,0) -> #DIV/0! | P3: =VLOOKUP(Tabla1[[#This Row],[Código del producto]],'ABC Stock'!$A:$E,5,0) -> #DIV/0! | Q3: =IF(AND(Tabla1[[#This Row],[Venta prom 12 meses en UN]]=0,Tabla1[[#This Row],[Stock en unidades]]>0),Tabla!$H$5,VLOOKUP(Tabla1[[#This Row],[Meses de stock]],Tabla!$F$6:$H$9,3,1)) -> 3. Entre 3 y 6 meses | S3: SIN MOVIMIENTO:
A4: 1001 | B4: BATERIA DIABOLO | C4: 01 - BATERIAS | D4: UN | E4: 99 | F4: 4.24 | G4: =Tabla1[[#This Row],[Stock en unidades]]*Tabla1[[#This Row],[Costo unitario]] -> 419.76 | H4: 2019 | I4: May | J4: 124 | K4: 699.2608 | L4: =Tabla1[[#This Row],[Venta prom 12 meses en UN]]*Tabla1[[#This Row],[Costo unitario]] -> 525.76 | M4: =IFERROR(Tabla1[[#This Row],[Stock en unidades]]/Tabla1[[#This Row],[Venta prom 12 meses en UN]],0) -> 0.7983871 | N4: =IFERROR(12/Tabla1[[#This Row],[Meses de stock]],0) -> 15.030303 | O4: =VLOOKUP(Tabla1[[#This Row],[Código del producto]],'ABC Ventas'!$A:$E,5,0) -> #DIV/0! | P4: =VLOOKUP(Tabla1[[#This Row],[Código del producto]],'ABC Stock'!$A:$E,5,0) -> #DIV/0! | Q4: =IF(AND(Tabla1[[#This Row],[Venta prom 12 meses en UN]]=0,Tabla1[[#This Row],[Stock en unidades]]>0),Tabla!$H$5,VLOOKUP(Tabla1[[#This Row],[Meses de stock]],Tabla!$F$6:$H$9,3,1)) -> 2. Menor a 3 meses
A5: 1001 | B5: BATERIA DIABOLO | C5: 01 - BATERIAS | D5: UN | E5: 113 | F5: 2.47 | G5: =Tabla1[[#This Row],[Stock en unidades]]*Tabla1[[#This Row],[Costo unitario]] -> 279.11 | H5: 2020 | I5: Feb | J5: 127 | K5: 589.7372 | L5: =Tabla1[[#This Row],[Venta prom 12 meses en UN]]*Tabla1[[#This Row],[Costo unitario]] -> 313.69 | M5: =IFERROR(Tabla1[[#This Row],[Stock en unidades]]/Tabla1[[#This Row],[Venta prom 12 meses en UN]],0) -> 0.88976378 | N5: =IFERROR(12/Tabla1[[#This Row],[Meses de stock]],0) -> 13.486726 | O5: =VLOOKUP(Tabla1[[#This Row],[Código del producto]],'ABC Ventas'!$A:$E,5,0) -> #DIV/0! | P5: =VLOOKUP(Tabla1[[#This Row],[Código del producto]],'ABC Stock'!$A:$E,5,0) -> #DIV/0! | Q5: =IF(AND(Tabla1[[#This Row],[Venta prom 12 meses en UN]]=0,Tabla1[[#This Row],[Stock en unidades]]>0),Tabla!$H$5,VLOOKUP(Tabla1[[#This Row],[Meses de stock]],Tabla!$F$6:$H$9,3,1)) -> 2. Menor a 3 meses | S5: VENTA = 0
A6: 1001 | B6: BATERIA DIABOLO | C6: 01 - BATERIAS | D6: UN | E6: 823 | F6: 2.22 | G6: =Tabla1[[#This Row],[Stock en unidades]]*Tabla1[[#This Row],[Costo unitario]] -> 1827.06 | H6: 2019 | I6: Ene | J6: 85 | K6: 300.033 | L6: =Tabla1[[#This Row],[Venta prom 12 meses en UN]]*Tabla1[[#This Row],[Costo unitario]] -> 188.7 | M6: =IFERROR(Tabla1[[#This Row],[Stock en unidades]]/Tabla1[[#This Row],[Venta prom 12 meses en UN]],0) -> 9.6823529 | N6: =IFERROR(12/Tabla1[[#This Row],[Meses de stock]],0) -> 1.2393682 | O6: =VLOOKUP(Tabla1[[#This Row],[Código del producto]],'ABC Ventas'!$A:$E,5,0) -> #DIV/0! | P6: =VLOOKUP(Tabla1[[#This Row],[Código del producto]],'ABC Stock'!$A:$E,5,0) -> #DIV/0! | Q6: =IF(AND(Tabla1[[#This Row],[Venta prom 12 meses en UN]]=0,Tabla1[[#This Row],[Stock en unidades]]>0),Tabla!$H$5,VLOOKUP(Tabla1[[#This Row],[Meses de stock]],Tabla!$F$6:$H$9,3,1)) -> 4. Entre 6 y 12 meses | S6: STOCK > 0
A7: 1001 | B7: BATERIA DIABOLO | C7: 01 - BATERIAS | D7: UN | E7: 328 | F7: 6.52 | G7: =Tabla1[[#This Row],[Stock en unidades]]*Tabla1[[#This Row],[Costo unitario]] -> 2138.56 | H7: 2020 | I7: Feb | J7: 32.8 | K7: 273.73568 | L7: =Tabla1[[#This Row],[Venta prom 12 meses en UN]]*Tabla1[[#This Row],[Costo unitario]] -> 213.856 | M7: =IFERROR(Tabla1[[#This Row],[Stock en unidades]]/Tabla1[[#This Row],[Venta prom 12 meses en UN]],0) -> 10 | N7: =IFERROR(12/Tabla1[[#This Row],[Meses de stock]],0) -> 1.2 | O7: =VLOOKUP(Tabla1[[#This Row],[Código del producto]],'ABC Ventas'!$A:$E,5,0) -> #DIV/0! | P7: =VLOOKUP(Tabla1[[#This Row],[Código del producto]],'ABC Stock'!$A:$E,5,0) -> #DIV/0! | Q7: =IF(AND(Tabla1[[#This Row],[Venta prom 12 meses en UN]]=0,Tabla1[[#This Row],[Stock en unidades]]>0),Tabla!$H$5,VLOOKUP(Tabla1[[#This Row],[Meses de stock]],Tabla!$F$6:$H$9,3,1)) -> 4. Entre 6 y 12 meses
A8: 1002 | B8: BATERIA CITY | C8: 01 - BATERIAS | D8: UN | E8: 1046 | F8: 71 | G8: =Tabla1[[#This Row],[Stock en unidades]]*Tabla1[[#This Row],[Costo unitario]] -> 74266 | H8: 2019 | I8: Set | J8: 910 | K8: 105960.4 | L8: =Tabla1[[#This Row],[Venta prom 12 meses en UN]]*Tabla1[[#This Row],[Costo unitario]] -> 64610 | M8: =IFERROR(Tabla1[[#This Row],[Stock en unidades]]/Tabla1[[#This Row],[Venta prom 12 meses en UN]],0) -> 1.1494505 | N8: =IFERROR(12/Tabla1[[#This Row],[Meses de stock]],0) -> 10.439771 | O8: =VLOOKUP(Tabla1[[#This Row],[Código del producto]],'ABC Ventas'!$A:$E,5,0) -> #DIV/0! | P8: =VLOOKUP(Tabla1[[#This Row],[Código del producto]],'ABC Stock'!$A:$E,5,0) -> #DIV/0! | Q8: =IF(AND(Tabla1[[#This Row],[Venta prom 12 meses en UN]]=0,Tabla1[[#This Row],[Stock en unidades]]>0),Tabla!$H$5,VLOOKUP(Tabla1[[#This Row],[Meses de stock]],Tabla!$F$6:$H$9,3,1)) -> 2. Menor a 3 meses
A9: 1002 | B9: BATERIA CITY | C9: 01 - BATERIAS | D9: UN | E9: 0 | F9: 63 | G9: =Tabla1[[#This Row],[Stock en unidades]]*Tabla1[[#This Row],[Costo unitario]] -> 0 | H9: 2020 | I9: Mar | J9: 767 | K9: 81662.49 | L9: =Tabla1[[#This Row],[Venta prom 12 meses en UN]]*Tabla1[[#This Row],[Costo unitario]] -> 48321 | M9: =IFERROR(Tabla1[[#This Row],[Stock en unidades]]/Tabla1[[#This Row],[Venta prom 12 meses en UN]],0) -> 0 | N9: =IFERROR(12/Tabla1[[#This Row],[Meses de stock]],0) -> 0 | O9: =VLOOKUP(Tabla1[[#This Row],[Código del producto]],'ABC Ventas'!$A:$E,5,0) -> #DIV/0! | P9: =VLOOKUP(Tabla1[[#This Row],[Código del producto]],'ABC Stock'!$A:$E,5,0) -> #DIV/0! | Q9: =IF(AND(Tabla1[[#This Row],[Venta prom 12 meses en UN]]=0,Tabla1[[#This Row],[Stock en unidades]]>0),Tabla!$H$5,VLOOKUP(Tabla1[[#This Row],[Meses de stock]],Tabla!$F$6:$H$9,3,1)) -> 2. Menor a 3 meses
A10: 1002 | B10: BATERIA CITY | C10: 01 - BATERIAS | D10: UN | E10: 410 | F10: 80 | G10: =Tabla1[[#This Row],[Stock en unidades]]*Tabla1[[#This Row],[Costo unitario]] -> 32800 | H10: 2020 | I10: Mar | J10: 612 | K10: 77356.8 | L10: =Tabla1[[#This Row],[Venta prom 12 meses en UN]]*Tabla1[[#This Row],[Costo unitario]] -> 48960 | M10: =IFERROR(Tabla1[[#This Row],[Stock en unidades]]/Tabla1[[#This Row],[Venta prom 12 meses en UN]],0) -> 0.66993464 | N10: =IFERROR(12/Tabla1[[#This Row],[Meses de stock]],0) -> 17.912195 | O10: =VLOOKUP(Tabla1[[#This Row],[Código del producto]],'ABC Ventas'!$A:$E,5,0) -> #DIV/0! | P10: =VLOOKUP(Tabla1[[#This Row],[Código del producto]],'ABC Stock'!$A:$E,5,0) -> #DIV/0! | Q10: =IF(AND(Tabla1[[#This Row],[Venta prom 12 meses en UN]]=0,Tabla1[[#This Row],[Stock en unidades]]>0),Tabla!$H$5,VLOOKUP(Tabla1[[#This Row],[Meses de stock]],Tabla!$F$6:$H$9,3,1)) -> 2. Menor a 3 meses
A11: 1002 | B11: BATERIA CITY | C11: 01 - BATERIAS | D11: UN | E11: 390 | F11: 46 | G11: =Tabla1[[#This Row],[Stock en unidades]]*Tabla1[[#This Row],[Costo unitario]] -> 17940 | H11: 2020 | I11: Feb | J11: 692 | K11: 55706 | L11: =Tabla1[[#This Row],[Venta prom 12 meses en UN]]*Tabla1[[#This Row],[Costo unitario]] -> 31832 | M11: =IFERROR(Tabla1[[#This Row],[Stock en unidades]]/Tabla1[[#This Row],[Venta prom 12 meses en UN]],0) -> 0.56358382 | N11: =IFERROR(12/Tabla1[[#This Row],[Meses de stock]],0) -> 21.292308 | O11: =VLOOKUP(Tabla1[[#This Row],[Código del producto]],'ABC Ventas'!$A:$E,5,0) -> #DIV/0! | P11: =VLOOKUP(Tabla1[[#This Row],[Código del producto]],'ABC Stock'!$A:$E,5,0) -> #DIV/0! | Q11: =IF(AND(Tabla1[[#This Row],[Venta prom 12 meses en UN]]=0,Tabla1[[#This Row],[Stock en unidades]]>0),Tabla!$H$5,VLOOKUP(Tabla1[[#This Row],[Meses de stock]],Tabla!$F$6:$H$9,3,1)) -> 2. Menor a 3 meses
A12: 1002 | B12: BATERIA CITY | C12: 01 - BATERIAS | D12: UN | E12: 855 | F12: 43 | G12: =Tabla1[[#This Row],[Stock en unidades]]*Tabla1[[#This Row],[Costo unitario]] -> 36765 | H12: 2019 | I12: Dic | J12: 818 | K12: 51705.78 | L12: =Tabla1[[#This Row],[Venta prom 12 meses en UN]]*Tabla1[[#This Row],[Costo unitario]] -> 35174 | M12: =IFERROR(Tabla1[[#This Row],[Stock en unidades]]/Tabla1[[#This Row],[Venta prom 12 meses en UN]],0) -> 1.0452323 | N12: =IFERROR(12/Tabla1[[#This Row],[Meses de stock]],0) -> 11.480702 | O12: =VLOOKUP(Tabla1[[#This Row],[Código del producto]],'ABC Ventas'!$A:$E,5,0) -> #DIV/0! | P12: =VLOOKUP(Tabla1[[#This Row],[Código del producto]],'ABC Stock'!$A:$E,5,0) -> #DIV/0! | Q12: =IF(AND(Tabla1[[#This Row],[Venta prom 12 meses en UN]]=0,Tabla1[[#This Row],[Stock en unidades]]>0),Tabla!$H$5,VLOOKUP(Tabla1[[#This Row],[Meses de stock]],Tabla!$F$6:$H$9,3,1)) -> 2. Menor a 3 meses
A13: 1002 | B13: BATERIA CITY | C13: 01 - BATERIAS | D13: UN | E13: 210 | F13: 56 | G13: =Tabla1[[#This Row],[Stock en unidades]]*Tabla1[[#This Row],[Costo unitario]] -> 11760 | H13: 2020 | I13: Mar | J13: 324 | K13: 22135.68 | L13: =Tabla1[[#This Row],[Venta prom 12 meses en UN]]*Tabla1[[#This Row],[Costo unitario]] -> 18144 | M13: =IFERROR(Tabla1[[#This Row],[Stock en unidades]]/Tabla1[[#This Row],[Venta prom 12 meses en UN]],0) -> 0.64814815 | N13: =IFERROR(12/Tabla1[[#This Row],[Meses de stock]],0) -> 18.514286 | O13: =VLOOKUP(Tabla1[[#This Row],[Código del producto]],'ABC Ventas'!$A:$E,5,0) -> #DIV/0! | P13: =VLOOKUP(Tabla1[[#This Row],[Código del producto]],'ABC Stock'!$A:$E,5,0) -> #DIV/0! | Q13: =IF(AND(Tabla1[[#This Row],[Venta prom 12 meses en UN]]=0,Tabla1[[#This Row],[Stock en unidades]]>0),Tabla!$H$5,VLOOKUP(Tabla1[[#This Row],[Meses de stock]],Tabla!$F$6:$H$9,3,1)) -> 2. Menor a 3 meses
A14: 1003 | B14: BATERIA ARGENTA | C14: 01 - BATERIAS | D14: UN | E14: 188 | F14: 7.42 | G14: =Tabla1[[#This Row],[Stock en unidades]]*Tabla1[[#This Row],[Costo unitario]] -> 1394.96 | H14: 2020 | I14: Mar | J14: 102 | K14: 1385.0172 | L14: =Tabla1[[#This Row],[Venta prom 12 meses en UN]]*Tabla1[[#This Row],[Costo unitario]] -> 756.84 | M14: =IFERROR(Tabla1[[#This Row],[Stock en unidades]]/Tabla1[[#This Row],[Venta prom 12 meses en UN]],0) -> 1.8431373 | N14: =IFERROR(12/Tabla1[[#This Row],[Meses de stock]],0) -> 6.5106383 | O14: =VLOOKUP(Tabla1[[#This Row],[Código del producto]],'ABC Ventas'!$A:$E,5,0) -> #DIV/0! | P14: =VLOOKUP(Tabla1[[#This Row],[Código del producto]],'ABC Stock'!$A:$E,5,0) -> #DIV/0! | Q14: =IF(AND(Tabla1[[#This Row],[Venta prom 12 meses en UN]]=0,Tabla1[[#This Row],[Stock en unidades]]>0),Tabla!$H$5,VLOOKUP(Tabla1[[#This Row],[Meses de stock]],Tabla!$F$6:$H$9,3,1)) -> 2. Menor a 3 meses
A15: 1003 | B15: BATERIA ARGENTA | C15: 01 - BATERIAS | D15: UN | E15: 711 | F15: 3.66 | G15: =Tabla1[[#This Row],[Stock en unidades]]*Tabla1[[#This Row],[Costo unitario]] -> 2602.26 | H15: 2020 | I15: Ene | J15: 96 | K15: 541.0944 | L15: =Tabla1[[#This Row],[Venta prom 12 meses en UN]]*Tabla1[[#This Row],[Costo unitario]] -> 351.36 | M15: =IFERROR(Tabla1[[#This Row],[Stock en unidades]]/Tabla1[[#This Row],[Venta prom 12 meses en UN]],0) -> 7.40625 | N15: =IFERROR(12/Tabla1[[#This Row],[Meses de stock]],0) -> 1.6202532 | O15: =VLOOKUP(Tabla1[[#This Row],[Código del producto]],'ABC Ventas'!$A:$E,5,0) -> #DIV/0! | P15: =VLOOKUP(Tabla1[[#This Row],[Código del producto]],'ABC Stock'!$A:$E,5,0) -> #DIV/0! | Q15: =IF(AND(Tabla1[[#This Row],[Venta prom 12 meses en UN]]=0,Tabla1[[#This Row],[Stock en unidades]]>0),Tabla!$H$5,VLOOKUP(Tabla1[[#This Row],[Meses de stock]],Tabla!$F$6:$H$9,3,1)) -> 4. Entre 6 y 12 meses
A16: 1003 | B16: BATERIA ARGENTA | C16: 01 - BATERIAS | D16: UN | E16: 200 | F16: 5.24 | G16: =Tabla1[[#This Row],[Stock en unidades]]*Tabla1[[#This Row],[Costo unitario]] -> 1048 | H16: 2019 | I16: Feb | J16: 66.5 | K16: 463.4518 | L16: =Tabla1[[#This Row],[Venta prom 12 meses en UN]]*Tabla1[[#This Row],[Costo unitario]] -> 348.46 | M16: =IFERROR(Tabla1[[#This Row],[Stock en unidades]]/Tabla1[[#This Row],[Venta prom 12 meses en UN]],0) -> 3.0075188 | N16: =IFERROR(12/Tabla1[[#This Row],[Meses de stock]],0) -> 3.99 | O16: =VLOOKUP(Tabla1[[#This Row],[Código del producto]],'ABC Ventas'!$A:$E,5,0) -> #DIV/0! | P16: =VLOOKUP(Tabla1[[#This Row],[Código del producto]],'ABC Stock'!$A:$E,5,0) -> #DIV/0! | Q16: =IF(AND(Tabla1[[#This Row],[Venta prom 12 meses en UN]]=0,Tabla1[[#This Row],[Stock en unidades]]>0),Tabla!$H$5,VLOOKUP(Tabla1[[#This Row],[Meses de stock]],Tabla!$F$6:$H$9,3,1)) -> 3. Entre 3 y 6 meses
A17: 1003 | B17: BATERIA ARGENTA | C17: 01 - BATERIAS | D17: UN | E17: 558 | F17: 7.22 | G17: =Tabla1[[#This Row],[Stock en unidades]]*Tabla1[[#This Row],[Costo unitario]] -> 4028.76 | H17: 2019 | I17: Ene | J17: 37.2 | K17: 381.38928 | L17: =Tabla1[[#This Row],[Venta prom 12 meses en UN]]*Tabla1[[#This Row],[Costo unitario]] -> 268.584 | M17: =IFERROR(Tabla1[[#This Row],[Stock en unidades]]/Tabla1[[#This Row],[Venta prom 12 meses en UN]],0) -> 15 | N17: =IFERROR(12/Tabla1[[#This Row],[Meses de stock]],0) -> 0.8 | O17: =VLOOKUP(Tabla1[[#This Row],[Código del producto]],'ABC Ventas'!$A:$E,5,0) -> #DIV/0! | P17: =VLOOKUP(Tabla1[[#This Row],[Código del producto]],'ABC Stock'!$A:$E,5,0) -> #DIV/0! | Q17: =IF(AND(Tabla1[[#This Row],[Venta prom 12 meses en UN]]=0,Tabla1[[#This Row],[Stock en unidades]]>0),Tabla!$H$5,VLOOKUP(Tabla1[[#This Row],[Meses de stock]],Tabla!$F$6:$H$9,3,1)) -> 5. Más de 12 meses
A18: 1003 | B18: BATERIA ARGENTA | C18: 01 - BATERIAS | D18: UN | E18: 536 | F18: 2.62 | G18: =Tabla1[[#This Row],[Stock en unidades]]*Tabla1[[#This Row],[Costo unitario]] -> 1404.32 | H18: 2019 | I18: Set | J18: 76.5 | K18: 356.7654 | L18: =Tabla1[[#This Row],[Venta prom 12 meses en UN]]*Tabla1[[#This Row],[Costo unitario]] -> 200.43 | M18: =IFERROR(Tabla1[[#This Row],[Stock en unidades]]/Tabla1[[#This Row],[Venta prom 12 meses en UN]],0) -> 7.0065359 | N18: =IFERROR(12/Tabla1[[#This Row],[Meses de stock]],0) -> 1.7126866 | O18: =VLOOKUP(Tabla1[[#This Row],[Código del producto]],'ABC Ventas'!$A:$E,5,0) -> #DIV/0! | P18: =VLOOKUP(Tabla1[[#This Row],[Código del producto]],'ABC Stock'!$A:$E,5,0) -> #DIV/0! | Q18: =IF(AND(Tabla1[[#This Row],[Venta prom 12 meses en UN]]=0,Tabla1[[#This Row],[Stock en unidades]]>0),Tabla!$H$5,VLOOKUP(Tabla1[[#This Row],[Meses de stock]],Tabla!$F$6:$H$9,3,1)) -> 4. Entre 6 y 12 meses
... A3373: 1562 | B3373: CHICOTE DE ACELERADOR | C3373: 10 - PALANCAS Y CHICOTES | D3373: UN | E3373: 72 | F3373: 2.79 | G3373: =Tabla1[[#This Row],[Stock en unidades]]*Tabla1[[#This Row],[Costo unitario]] -> 200.88 | H3373: 2020 | I3373: Ene | J3373: 51 | K3373: 207.7434 | L3373: =Tabla1[[#This Row],[Venta prom 12 meses en UN]]*Tabla1[[#This Row],[Costo unitario]] -> 142.29 | M3373: =IFERROR(Tabla1[[#This Row],[Stock en unidades]]/Tabla1[[#This Row],[Venta prom 12 meses en UN]],0) -> 1.4117647 | N3373: =IFERROR(12/Tabla1[[#This Row],[Meses de stock]],0) -> 8.5 | O3373: =VLOOKUP(Tabla1[[#This Row],[Código del producto]],'ABC Ventas'!$A:$E,5,0) -> #DIV/0! | P3373: =VLOOKUP(Tabla1[[#This Row],[Código del producto]],'ABC Stock'!$A:$E,5,0) -> #DIV/0! | Q3373: =IF(AND(Tabla1[[#This Row],[Venta prom 12 meses en UN]]=0,Tabla1[[#This Row],[Stock en unidades]]>0),Tabla!$H$5,VLOOKUP(Tabla1[[#This Row],[Meses de stock]],Tabla!$F$6:$H$9,3,1)) -> 2. Menor a 3 meses

Sheet Tabla
B2: 1. ABC STOCK | F2: 2. ANTIGUEDAD DEL STOCK
B4: Desde | C4: Hasta | D4: ABC | F4: Desde | G4: Hasta | H4: Tipo
B5: 0 | C5: 0.5 | D5: A | H5: 1. Sin movimiento
B6: 0.5 | C6: 0.8 | D6: B | F6: 0 | G6: 3 | H6: 2. Menor a 3 meses
B7: 0.8 | C7: a más | D7: C | F7: 3 | G7: 6 | H7: 3. Entre 3 y 6 meses
F8: 6 | G8: 12 | H8: 4. Entre 6 y 12 meses
F9: 12 | G9: a más | H9: 5. Más de 12 meses
